BEGIN:VCALENDAR
VERSION:2.0
PRODID:-//Fondazione Teatri Piacenza - ECPv6.15.11//NONSGML v1.0//EN
CALSCALE:GREGORIAN
METHOD:PUBLISH
X-ORIGINAL-URL:https://teatripiacenza.it
X-WR-CALDESC:Eventi per Fondazione Teatri Piacenza
REFRESH-INTERVAL;VALUE=DURATION:PT1H
X-Robots-Tag:noindex
X-PUBLISHED-TTL:PT1H
BEGIN:VTIMEZONE
TZID:Europe/Rome
BEGIN:DAYLIGHT
TZOFFSETFROM:+0100
TZOFFSETTO:+0200
TZNAME:CEST
DTSTART:20250330T010000
END:DAYLIGHT
BEGIN:STANDARD
TZOFFSETFROM:+0200
TZOFFSETTO:+0100
TZNAME:CET
DTSTART:20251026T010000
END:STANDARD
BEGIN:DAYLIGHT
TZOFFSETFROM:+0100
TZOFFSETTO:+0200
TZNAME:CEST
DTSTART:20260329T010000
END:DAYLIGHT
BEGIN:STANDARD
TZOFFSETFROM:+0200
TZOFFSETTO:+0100
TZNAME:CET
DTSTART:20261025T010000
END:STANDARD
BEGIN:DAYLIGHT
TZOFFSETFROM:+0100
TZOFFSETTO:+0200
TZNAME:CEST
DTSTART:20270328T010000
END:DAYLIGHT
BEGIN:STANDARD
TZOFFSETFROM:+0200
TZOFFSETTO:+0100
TZNAME:CET
DTSTART:20271031T010000
END:STANDARD
END:VTIMEZONE
BEGIN:VEVENT
DTSTART;TZID=Europe/Rome:20260424T100000
DTEND;TZID=Europe/Rome:20260424T110000
DTSTAMP:20260422T140602
CREATED:20250515T153041Z
LAST-MODIFIED:20250515T153041Z
UID:10000178-1777024800-1777028400@teatripiacenza.it
SUMMARY:Canto del resistere
DESCRIPTION:
URL:https://teatripiacenza.it/evento/canto-del-resistere/
CATEGORIES:Young
ATTACH;FMTTYPE=image/jpeg:https://teatripiacenza.it/wp-content/uploads/2025/05/Canto-del-Resistere.jpg
END:VEVENT
BEGIN:VEVENT
DTSTART;TZID=Europe/Rome:20260520T100000
DTEND;TZID=Europe/Rome:20260520T110000
DTSTAMP:20260422T140602
CREATED:20250515T153041Z
LAST-MODIFIED:20250515T153041Z
UID:10000180-1779271200-1779274800@teatripiacenza.it
SUMMARY:Bambini all'opera
DESCRIPTION:
URL:https://teatripiacenza.it/evento/bambini-allopera-3/
CATEGORIES:Young
ATTACH;FMTTYPE=image/jpeg:https://teatripiacenza.it/wp-content/uploads/2024/06/bambini-allopera-1.jpg
END:VEVENT
BEGIN:VEVENT
DTSTART;TZID=Europe/Rome:20260520T200000
DTEND;TZID=Europe/Rome:20260520T210000
DTSTAMP:20260422T140602
CREATED:20250515T153041Z
LAST-MODIFIED:20260408T104304Z
UID:10000179-1779307200-1779310800@teatripiacenza.it
SUMMARY:Bambini all'opera
DESCRIPTION:
URL:https://teatripiacenza.it/evento/bambini-allopera-2/
CATEGORIES:Young
ATTACH;FMTTYPE=image/jpeg:https://teatripiacenza.it/wp-content/uploads/2024/06/bambini-allopera-1.jpg
END:VEVENT
BEGIN:VEVENT
DTSTART;TZID=Europe/Rome:20260523T150000
DTEND;TZID=Europe/Rome:20260523T160000
DTSTAMP:20260422T140602
CREATED:20250515T153040Z
LAST-MODIFIED:20260421T102331Z
UID:10000181-1779548400-1779552000@teatripiacenza.it
SUMMARY:Orchestra CinqueQuarti 2026
DESCRIPTION:
URL:https://teatripiacenza.it/evento/orchestra-cinquequarti-2026-2/
CATEGORIES:Young
ATTACH;FMTTYPE=image/jpeg:https://teatripiacenza.it/wp-content/uploads/2024/05/cinquequarti-1.jpg
END:VEVENT
BEGIN:VEVENT
DTSTART;TZID=Europe/Rome:20260523T180000
DTEND;TZID=Europe/Rome:20260523T190000
DTSTAMP:20260422T140602
CREATED:20250515T153040Z
LAST-MODIFIED:20260421T102539Z
UID:10000182-1779559200-1779562800@teatripiacenza.it
SUMMARY:Orchestra CinqueQuarti 2026
DESCRIPTION:
URL:https://teatripiacenza.it/evento/orchestra-cinquequarti-2026/
CATEGORIES:Young
ATTACH;FMTTYPE=image/jpeg:https://teatripiacenza.it/wp-content/uploads/2024/05/cinquequarti-1.jpg
END:VEVENT
BEGIN:VEVENT
DTSTART;TZID=Europe/Rome:20260526T091500
DTEND;TZID=Europe/Rome:20260526T101500
DTSTAMP:20260422T140602
CREATED:20250515T153040Z
LAST-MODIFIED:20250515T153040Z
UID:10000177-1779786900-1779790500@teatripiacenza.it
SUMMARY:Gilda. Nel gioco del Duca
DESCRIPTION:
URL:https://teatripiacenza.it/evento/gilda-nel-gioco-del-duca-2/
CATEGORIES:Young
ATTACH;FMTTYPE=image/jpeg:https://teatripiacenza.it/wp-content/uploads/2025/05/Gilda.jpg
END:VEVENT
BEGIN:VEVENT
DTSTART;TZID=Europe/Rome:20260526T104500
DTEND;TZID=Europe/Rome:20260526T114500
DTSTAMP:20260422T140602
CREATED:20250515T153040Z
LAST-MODIFIED:20250515T153040Z
UID:10000176-1779792300-1779795900@teatripiacenza.it
SUMMARY:Gilda. Nel gioco del Duca
DESCRIPTION:
URL:https://teatripiacenza.it/evento/gilda-nel-gioco-del-duca/
CATEGORIES:Young
ATTACH;FMTTYPE=image/jpeg:https://teatripiacenza.it/wp-content/uploads/2025/05/Gilda.jpg
END:VEVENT
BEGIN:VEVENT
DTSTART;TZID=Europe/Rome:20260927T110000
DTEND;TZID=Europe/Rome:20260927T123000
DTSTAMP:20260422T140602
CREATED:20251201T175329Z
LAST-MODIFIED:20260109T160749Z
UID:10000196-1790506800-1790512200@teatripiacenza.it
SUMMARY:Prima di andare in Scena | La bohème
DESCRIPTION:
URL:https://teatripiacenza.it/evento/prima-di-andare-in-scena-la-boheme/
LOCATION:Ridotto del Teatro Municipale
CATEGORIES:Rassegne
ATTACH;FMTTYPE=image/jpeg:https://teatripiacenza.it/wp-content/uploads/2025/05/Prima-di-andare-in-scena.jpg
END:VEVENT
BEGIN:VEVENT
DTSTART;TZID=Europe/Rome:20260930T153000
DTEND;TZID=Europe/Rome:20260930T180000
DTSTAMP:20260422T140602
CREATED:20250515T153040Z
LAST-MODIFIED:20250515T153040Z
UID:10000183-1790782200-1790791200@teatripiacenza.it
SUMMARY:La bohème - prova aperta alle scuole
DESCRIPTION:
URL:https://teatripiacenza.it/evento/la-boheme-prova-aperta-alle-scuole/
LOCATION:Teatro Municipale
CATEGORIES:Opera
ATTACH;FMTTYPE=image/jpeg:https://teatripiacenza.it/wp-content/uploads/2025/05/La-Boheme-1.jpg
END:VEVENT
BEGIN:VEVENT
DTSTART;TZID=Europe/Rome:20261002T200000
DTEND;TZID=Europe/Rome:20261002T223000
DTSTAMP:20260422T140602
CREATED:20250515T153040Z
LAST-MODIFIED:20250707T145111Z
UID:10000156-1790971200-1790980200@teatripiacenza.it
SUMMARY:La bohème
DESCRIPTION:
URL:https://teatripiacenza.it/evento/la-boheme-2/
LOCATION:Teatro Municipale
CATEGORIES:Opera
ATTACH;FMTTYPE=image/jpeg:https://teatripiacenza.it/wp-content/uploads/2025/05/La-Boheme-1.jpg
END:VEVENT
BEGIN:VEVENT
DTSTART;TZID=Europe/Rome:20261004T153000
DTEND;TZID=Europe/Rome:20261004T180000
DTSTAMP:20260422T140602
CREATED:20250515T153040Z
LAST-MODIFIED:20250707T145032Z
UID:10000155-1791127800-1791136800@teatripiacenza.it
SUMMARY:La bohème
DESCRIPTION:
URL:https://teatripiacenza.it/evento/la-boheme/
LOCATION:Teatro Municipale
CATEGORIES:Opera
ATTACH;FMTTYPE=image/jpeg:https://teatripiacenza.it/wp-content/uploads/2025/05/La-Boheme-1.jpg
END:VEVENT
BEGIN:VEVENT
DTSTART;TZID=Europe/Rome:20261025T110000
DTEND;TZID=Europe/Rome:20261025T123000
DTSTAMP:20260422T140602
CREATED:20251201T175410Z
LAST-MODIFIED:20260109T160700Z
UID:10000197-1792926000-1792931400@teatripiacenza.it
SUMMARY:Prima di andare in Scena | Lohengrin
DESCRIPTION:
URL:https://teatripiacenza.it/evento/prima-di-andare-in-scena-lohengrin/
LOCATION:Ridotto del Teatro Municipale
CATEGORIES:Rassegne
ATTACH;FMTTYPE=image/jpeg:https://teatripiacenza.it/wp-content/uploads/2025/05/Prima-di-andare-in-scena.jpg
END:VEVENT
BEGIN:VEVENT
DTSTART;TZID=Europe/Rome:20261106T190000
DTEND;TZID=Europe/Rome:20261106T233000
DTSTAMP:20260422T140602
CREATED:20250515T153040Z
LAST-MODIFIED:20251230T152416Z
UID:10000157-1793991600-1794007800@teatripiacenza.it
SUMMARY:Lohengrin
DESCRIPTION:
URL:https://teatripiacenza.it/evento/lohengrin-2/
LOCATION:Teatro Municipale
CATEGORIES:Opera
ATTACH;FMTTYPE=image/jpeg:https://teatripiacenza.it/wp-content/uploads/2025/05/Lohengrin.jpg
END:VEVENT
BEGIN:VEVENT
DTSTART;TZID=Europe/Rome:20261108T153000
DTEND;TZID=Europe/Rome:20261108T183000
DTSTAMP:20260422T140602
CREATED:20250515T153040Z
LAST-MODIFIED:20250707T144920Z
UID:10000158-1794151800-1794162600@teatripiacenza.it
SUMMARY:Lohengrin
DESCRIPTION:
URL:https://teatripiacenza.it/evento/lohengrin/
LOCATION:Teatro Municipale
CATEGORIES:Opera
ATTACH;FMTTYPE=image/jpeg:https://teatripiacenza.it/wp-content/uploads/2025/05/Lohengrin.jpg
END:VEVENT
END:VCALENDAR